BEGIN:VCALENDAR
VERSION:2.0
PRODID:-//Tiers-Lieu Marsien - ECPv6.10.2//NONSGML v1.0//EN
CALSCALE:GREGORIAN
METHOD:PUBLISH
X-WR-CALNAME:Tiers-Lieu Marsien
X-ORIGINAL-URL:https://tierslieumarsien.fr
X-WR-CALDESC:Évènements pour Tiers-Lieu Marsien
REFRESH-INTERVAL;VALUE=DURATION:PT1H
X-Robots-Tag:noindex
X-PUBLISHED-TTL:PT1H
BEGIN:VTIMEZONE
TZID:Europe/Paris
BEGIN:DAYLIGHT
TZOFFSETFROM:+0100
TZOFFSETTO:+0200
TZNAME:CEST
DTSTART:20260329T010000
END:DAYLIGHT
BEGIN:STANDARD
TZOFFSETFROM:+0200
TZOFFSETTO:+0100
TZNAME:CET
DTSTART:20261025T010000
END:STANDARD
END:VTIMEZONE
BEGIN:VEVENT
DTSTART;TZID=Europe/Paris:20260313T120000
DTEND;TZID=Europe/Paris:20260313T140000
DTSTAMP:20260424T104045
CREATED:20260220T133220Z
LAST-MODIFIED:20260220T133220Z
UID:6080-1773403200-1773410400@tierslieumarsien.fr
SUMMARY:DÉJEUNER DE LA TABLE DE COLINE LES VENDREDIS
DESCRIPTION:« Tous les Évènements\n 		\n				\n		\n		\n		\n				\n				\n			\n		\n			13 mars\n\n	\n\n	  de  \n\n\n12:00 pm\n\n		\n\n\n\n	\n	  à  \n\n2:00 pm\n\n\n\n	\n		\n				\n				\n				\n			\n	\n		\n\n	\n	Ajouter au calendrier	\n		\n	\n\n		\n			\n									\n	Google Agenda\n\n									\n	iCalendar\n\n									\n	Outlook 365\n\n									\n	Outlook Live\n\n							\n		\n\n		\n	\n\n		\n				\n				\n				\n				\n							Vous avez raté ou adoré en décembre ? Bonne nouvelle\, La table de Coline et Guénolé revient égayer vos papilles !Dans le cadre de la revitalisation du bourg de Saint-Mars-du-Désert\, le tiers-lieu ouvre ses portes au restaurant éphémère de La table de Coline et Guénolé durant tout le mois de février. 🗓️ TOUS LES VENDREDIS 12h-13h30 pour des menus du terroir et plats VG🗓️ TOUS LES DIMANCHES pour un brunch sous la forme d’un grand buffet fermier et/ou d’un goûter à partir de 10h30👉 Cuisine uniquement à base de produits frais\, locaux\, bio et de saison\, merci d’anticiper vos réservations.🫙 Sur place ou à emporter\, possibilité de prévoir une livraison en bocaux prêts à déguster ☎️ Réservations auprès de Coline : 06.80.82.54.65						\n				\n				\n				\n			\n				\n				\n	\n	Tiers-Lieu RDC\n	\n	\n\n17 rue du 3 aout 1944\n	\n		\n		Saint-Mars du Désert\,\n\n\n	44850\n\n	France\n\n\n\n\n	+ Google Map \n\n\n	\n					\n						\n	 \n\n\n	\n	 \n\n\n\n	\n\n\n\n		\n	\n		\n				\n				\n				\n				\n			\n	\n		\n				\n				\n				\n				\n			\n	\n		\n\n				RDV RÉGULIER AU TIERS-LIEU - ATELIER PASTELS PEINTURES	\n\n\n		\n	\n		CAFÉ ASSOCIATIF "LE 17"
URL:https://tierslieumarsien.fr/agenda/dejeuner-de-la-table-de-coline-les-vendredis-6/
LOCATION:Tiers-Lieu RDC\, 17 rue du 3 aout 1944\, Saint-Mars du Désert\, 44850\, France
CATEGORIES:Activité régulière,Convivialité,Nouveauté
ATTACH;FMTTYPE=image/png:https://tierslieumarsien.fr/wp-content/uploads/2025/10/1-1.png
END:VEVENT
END:VCALENDAR