BEGIN:VCALENDAR
VERSION:2.0
PRODID:-//Tiers-Lieu Marsien - ECPv6.10.2//NONSGML v1.0//EN
CALSCALE:GREGORIAN
METHOD:PUBLISH
X-WR-CALNAME:Tiers-Lieu Marsien
X-ORIGINAL-URL:https://tierslieumarsien.fr
X-WR-CALDESC:Évènements pour Tiers-Lieu Marsien
REFRESH-INTERVAL;VALUE=DURATION:PT1H
X-Robots-Tag:noindex
X-PUBLISHED-TTL:PT1H
BEGIN:VTIMEZONE
TZID:Europe/Paris
BEGIN:DAYLIGHT
TZOFFSETFROM:+0100
TZOFFSETTO:+0200
TZNAME:CEST
DTSTART:20260329T010000
END:DAYLIGHT
BEGIN:STANDARD
TZOFFSETFROM:+0200
TZOFFSETTO:+0100
TZNAME:CET
DTSTART:20261025T010000
END:STANDARD
END:VTIMEZONE
BEGIN:VEVENT
DTSTART;TZID=Europe/Paris:20260314T113000
DTEND;TZID=Europe/Paris:20260314T130000
DTSTAMP:20260424T125237
CREATED:20260219T203418Z
LAST-MODIFIED:20260219T203507Z
UID:5995-1773487800-1773493200@tierslieumarsien.fr
SUMMARY:QUIZ SUR LES DROITS DES FEMMES AU TIERS-LIEU
DESCRIPTION:« Tous les Évènements\n 		\n				\n		\n		\n		\n				\n				\n			\n		\n			14 mars\n\n	\n\n	  de  \n\n\n11:30 am\n\n		\n\n\n\n	\n	  à  \n\n1:00 pm\n\n\n\n	\n		\n				\n				\n				\n			\n	\n		\n\n	\n	Ajouter au calendrier	\n		\n	\n\n		\n			\n									\n	Google Agenda\n\n									\n	iCalendar\n\n									\n	Outlook 365\n\n									\n	Outlook Live\n\n							\n		\n\n		\n	\n\n		\n				\n				\n				\n				\n							Les bénévoles du café asso vous préparent un Quiz spécial Droits des Femmes\, tout le monde peut jouer ! 📆 SAMEDI 14 MARS 11h30 au RDC💰 Gratuit et ouvert à tous 🏉 La convivialité sera à son comble à l’occasion de la retransmission du dernier match du Tournoi des 6 Nations dès 20h avec le fameux crunch France-Angleterre\, avec un quiz spécial rugby en avant-match également ! 🆘 Pensez à apporter des protections périodiques ou des produits d’hygiène pour la grande collecte solidaire au profit des femmes en situation de précarité en milieu rural\, en soutien à l’association Voice 44						\n				\n				\n				\n			\n				\n				\n	\n	Tiers-Lieu RDC\n	\n	\n\n17 rue du 3 aout 1944\n	\n		\n		Saint-Mars du Désert\,\n\n\n	44850\n\n	France\n\n\n\n\n	+ Google Map \n\n\n	\n					\n						\n	 \n\n\n	\n	 \n\n\n\n	\n\n\n\n		\n	\n		\n				\n				\n				\n				\n			\n	\n		\n				\n				\n				\n				\n			\n	\n		\n\n				CAFÉ ASSOCIATIF "LE 17"	\n\n\n		\n	\n		TOURNOI DES 6 NATIONS (RUGBY) FRANCE-ANGLETERRE
URL:https://tierslieumarsien.fr/agenda/quiz-sur-les-droits-des-femmes-au-tiers-lieu/
LOCATION:Tiers-Lieu RDC\, 17 rue du 3 aout 1944\, Saint-Mars du Désert\, 44850\, France
CATEGORIES:Convivialité
ATTACH;FMTTYPE=image/png:https://tierslieumarsien.fr/wp-content/uploads/2026/02/Quizz-droits-des-femmes-1403261.png
END:VEVENT
END:VCALENDAR