BEGIN:VCALENDAR
VERSION:2.0
PRODID:-//Tiers-Lieu Marsien - ECPv6.10.2//NONSGML v1.0//EN
CALSCALE:GREGORIAN
METHOD:PUBLISH
X-WR-CALNAME:Tiers-Lieu Marsien
X-ORIGINAL-URL:https://tierslieumarsien.fr
X-WR-CALDESC:Évènements pour Tiers-Lieu Marsien
REFRESH-INTERVAL;VALUE=DURATION:PT1H
X-Robots-Tag:noindex
X-PUBLISHED-TTL:PT1H
BEGIN:VTIMEZONE
TZID:Europe/Paris
BEGIN:DAYLIGHT
TZOFFSETFROM:+0100
TZOFFSETTO:+0200
TZNAME:CEST
DTSTART:20260329T010000
END:DAYLIGHT
BEGIN:STANDARD
TZOFFSETFROM:+0200
TZOFFSETTO:+0100
TZNAME:CET
DTSTART:20261025T010000
END:STANDARD
END:VTIMEZONE
BEGIN:VEVENT
DTSTART;TZID=Europe/Paris:20260312T180000
DTEND;TZID=Europe/Paris:20260312T200000
DTSTAMP:20260422T140707
CREATED:20260219T205547Z
LAST-MODIFIED:20260219T205547Z
UID:6057-1773338400-1773345600@tierslieumarsien.fr
SUMMARY:RDV RÉGULIER AU TIERS-LIEU - ATELIER PASTELS PEINTURES
DESCRIPTION:« Tous les Évènements\n 		\n				\n		\n		\n		\n				\n				\n			\n		\n			12 mars\n\n	\n\n	  de  \n\n\n6:00 pm\n\n		\n\n\n\n	\n	  à  \n\n8:00 pm\n\n\n\n	\n		\n				\n				\n				\n			\n	\n		\n\n	\n	Ajouter au calendrier	\n		\n	\n\n		\n			\n									\n	Google Agenda\n\n									\n	iCalendar\n\n									\n	Outlook 365\n\n									\n	Outlook Live\n\n							\n		\n\n		\n	\n\n		\n				\n				\n				\n				\n							Amateur.ice de pastel ou peinture ou curieux.se avec l’envie d’apprendre dans la bonne humeur\, venez participer au nouvel atelier pastel peinture !Le matériel vous sera fourni pour votre 1er atelier découverte.💰 GratuitOuvert à tous dès l’âge de 16 ans.						\n				\n				\n				\n			\n				\n				\n	\n	Tiers-Lieu RDC\n	\n	\n\n17 rue du 3 aout 1944\n	\n		\n		Saint-Mars du Désert\,\n\n\n	44850\n\n	France\n\n\n\n\n	+ Google Map \n\n\n	\n					\n						\n	 \n\n\n	\n	 \n\n\n\n	\n\n\n\n		\n	\n		\n				\n				\n				\n				\n			\n	\n		\n				\n				\n				\n				\n			\n	\n		\n\n				ATELIERS GESTION DES ÉMOTIONS ET RELAXATION PAR GROUPES DE 8 JEUNES (+ de 12 ans)	\n\n\n		\n	\n		DÉJEUNER DE LA TABLE DE COLINE LES VENDREDIS
URL:https://tierslieumarsien.fr/agenda/rdv-regulier-au-tiers-lieu-atelier-pastels-peintures-9/
LOCATION:Tiers-Lieu RDC\, 17 rue du 3 aout 1944\, Saint-Mars du Désert\, 44850\, France
CATEGORIES:Activité régulière,Convivialité
ATTACH;FMTTYPE=image/png:https://tierslieumarsien.fr/wp-content/uploads/2025/10/Affiche-pastels.png
END:VEVENT
END:VCALENDAR